BEGIN:VCALENDAR
PRODID:brasil.gov.agenda
VERSION:1.0
BEGIN:VEVENT
DTSTART:20221025T140000Z
DTEND:20221025T180000Z
DCREATED:20221104T163802Z
UID:Compromisso-bd77e4b504634161a0ab21307dc510e8
SEQUENCE:0
LAST-MODIFIED:20221104T163802Z
SUMMARY:Despachos Internos
LOCATION:Reitoria
PRIORITY:3
TRANSP:0
END:VEVENT
END:VCALENDAR
