BEGIN:VCALENDAR
PRODID:brasil.gov.agenda
VERSION:1.0
BEGIN:VEVENT
DTSTART:20221024T140000Z
DTEND:20221024T180000Z
DCREATED:20221104T143814Z
UID:Compromisso-81c9216e39b34486965b82a5cf40fa22
SEQUENCE:0
LAST-MODIFIED:20221104T143814Z
SUMMARY:Despachos Internos
LOCATION:Reitoria
PRIORITY:3
TRANSP:0
END:VEVENT
END:VCALENDAR
