BEGIN:VCALENDAR
PRODID:brasil.gov.agenda
VERSION:1.0
BEGIN:VEVENT
DTSTART:20221019T080000Z
DTEND:20221019T120000Z
DCREATED:20221104T143330Z
UID:Compromisso-bfe44755e6ea4179be7b018d1440a612
SEQUENCE:0
LAST-MODIFIED:20221104T143330Z
SUMMARY:Despachos Internos
LOCATION:Reitoria
PRIORITY:3
TRANSP:0
END:VEVENT
END:VCALENDAR
