BEGIN:VCALENDAR
PRODID:brasil.gov.agenda
VERSION:1.0
BEGIN:VEVENT
DTSTART:20221019T140000Z
DTEND:20221019T180000Z
DCREATED:20221104T143342Z
UID:Compromisso-1b97d42fb9454264a691473b1fc6fc30
SEQUENCE:0
LAST-MODIFIED:20221104T143342Z
SUMMARY:Despachos Internos
LOCATION:Reitoria
PRIORITY:3
TRANSP:0
END:VEVENT
END:VCALENDAR
