BEGIN:VCALENDAR
PRODID:brasil.gov.agenda
VERSION:1.0
BEGIN:VEVENT
DTSTART:20221018T080000Z
DTEND:20221018T120000Z
DCREATED:20221104T143139Z
UID:Compromisso-2520fdf9d73748d289b795dac336e78b
SEQUENCE:0
LAST-MODIFIED:20221104T143139Z
SUMMARY:Despachos Internos
LOCATION:Reitoria
PRIORITY:3
TRANSP:0
END:VEVENT
END:VCALENDAR
