BEGIN:VCALENDAR
PRODID:brasil.gov.agenda
VERSION:1.0
BEGIN:VEVENT
DTSTART:20221014T093000Z
DTEND:20221014T113000Z
DCREATED:20221104T142848Z
UID:Compromisso-9776b1571eb24875a2ae065b1fcf3c61
SEQUENCE:0
LAST-MODIFIED:20221104T142848Z
SUMMARY:Reunião Vice-Reitor e Diretoria de Administração/PROAD
LOCATION:Reitoria
PRIORITY:3
TRANSP:0
END:VEVENT
END:VCALENDAR
