BEGIN:VCALENDAR
PRODID:brasil.gov.agenda
VERSION:1.0
BEGIN:VEVENT
DTSTART:20221014T140000Z
DTEND:20221014T180000Z
DCREATED:20221104T142903Z
UID:Compromisso-d4d0daac0df2428baf4ca5a8e8dc9b0a
SEQUENCE:0
LAST-MODIFIED:20221104T142903Z
SUMMARY:Despachos Internos
LOCATION:Reitoria
PRIORITY:3
TRANSP:0
END:VEVENT
END:VCALENDAR
