BEGIN:VCALENDAR
PRODID:brasil.gov.agenda
VERSION:1.0
BEGIN:VEVENT
DTSTART:20221011T080000Z
DTEND:20221011T120000Z
DCREATED:20221104T142458Z
UID:Compromisso-a51d17a92a2046849aa5f68f266d0808
SEQUENCE:0
LAST-MODIFIED:20221104T142458Z
SUMMARY:Despachos Internos
LOCATION:Reitoria
PRIORITY:3
TRANSP:0
END:VEVENT
END:VCALENDAR
