BEGIN:VCALENDAR
PRODID:brasil.gov.agenda
VERSION:1.0
BEGIN:VEVENT
DTSTART:20221011T140000Z
DTEND:20221011T180000Z
DCREATED:20221104T142519Z
UID:Compromisso-dc37fb98b6ef4d39ad221a4c4330017e
SEQUENCE:0
LAST-MODIFIED:20221104T142519Z
SUMMARY:Despachos Internos
LOCATION:Reitoria
PRIORITY:3
TRANSP:0
END:VEVENT
END:VCALENDAR
