BEGIN:VCALENDAR
PRODID:brasil.gov.agenda
VERSION:1.0
BEGIN:VEVENT
DTSTART:20221010T083000Z
DTEND:20221010T093000Z
DCREATED:20221104T142139Z
UID:Compromisso-3d5d38eb2ed540a2940205a313e816be
SEQUENCE:0
LAST-MODIFIED:20221104T142139Z
SUMMARY:Colação de Grau
LOCATION:Reitoria
PRIORITY:3
TRANSP:0
END:VEVENT
END:VCALENDAR
