BEGIN:VCALENDAR
PRODID:brasil.gov.agenda
VERSION:1.0
BEGIN:VEVENT
DTSTART:20221007T000000Z
DTEND:20221007T000000Z
DCREATED:20221104T142018Z
UID:Compromisso-89354093533942b9a23d9be488007e89
SEQUENCE:0
LAST-MODIFIED:20221104T142018Z
SUMMARY:Férias Regulamentares
LOCATION:Reitoria
PRIORITY:3
TRANSP:0
END:VEVENT
END:VCALENDAR
