BEGIN:VCALENDAR
PRODID:brasil.gov.agenda
VERSION:1.0
BEGIN:VEVENT
DTSTART:20221006T000000Z
DTEND:20221006T000000Z
DCREATED:20221104T141734Z
UID:Compromisso-3bd22a089dab4cb2ab5a0f3fd82f29ed
SEQUENCE:0
LAST-MODIFIED:20221104T141734Z
SUMMARY:Férias Regulamentares
LOCATION:Reitoria
PRIORITY:3
TRANSP:0
END:VEVENT
END:VCALENDAR
