BEGIN:VCALENDAR
PRODID:brasil.gov.agenda
VERSION:1.0
BEGIN:VEVENT
DTSTART:20221005T000000Z
DTEND:20221005T000000Z
DCREATED:20221104T141659Z
UID:Compromisso-83c5d3f6754b4affb6d66d62f0fc85c8
SEQUENCE:0
LAST-MODIFIED:20221104T141700Z
SUMMARY:Férias Regulamentares
LOCATION:Reitoria
PRIORITY:3
TRANSP:0
END:VEVENT
END:VCALENDAR
