BEGIN:VCALENDAR
PRODID:brasil.gov.agenda
VERSION:1.0
BEGIN:VEVENT
DTSTART:20221004T000000Z
DTEND:20221004T000000Z
DCREATED:20221104T141620Z
UID:Compromisso-6508ba2a83804841a21fed6125304868
SEQUENCE:0
LAST-MODIFIED:20221104T141620Z
SUMMARY:Férias Regulamentares
LOCATION:Reitoria
PRIORITY:3
TRANSP:0
END:VEVENT
END:VCALENDAR
