BEGIN:VCALENDAR
PRODID:brasil.gov.agenda
VERSION:1.0
BEGIN:VEVENT
DTSTART:20221003T000000Z
DTEND:20221003T000000Z
DCREATED:20220920T133247Z
UID:Compromisso-b56f2a049a124d0381830afc185d9807
SEQUENCE:0
LAST-MODIFIED:20220920T133247Z
SUMMARY:Férias Regulamentares
LOCATION:Reitoria
PRIORITY:3
TRANSP:0
END:VEVENT
END:VCALENDAR
