BEGIN:VCALENDAR
PRODID:brasil.gov.agenda
VERSION:1.0
BEGIN:VEVENT
DTSTART:20220930T000000Z
DTEND:20220930T000000Z
DCREATED:20220920T133155Z
UID:Compromisso-3be849010f3e40fabafb0d380c2bfdf2
SEQUENCE:0
LAST-MODIFIED:20220920T133155Z
SUMMARY:Férias Regulamentares
LOCATION:Reitoria
PRIORITY:3
TRANSP:0
END:VEVENT
END:VCALENDAR
