BEGIN:VCALENDAR
PRODID:brasil.gov.agenda
VERSION:1.0
BEGIN:VEVENT
DTSTART:20220929T000000Z
DTEND:20220929T000000Z
DCREATED:20220920T133106Z
UID:Compromisso-a24c1da59e4b4308a57a562a0625d02b
SEQUENCE:0
LAST-MODIFIED:20220920T133107Z
SUMMARY:Férias Regulamentares
LOCATION:Reitoria
PRIORITY:3
TRANSP:0
END:VEVENT
END:VCALENDAR
