BEGIN:VCALENDAR
PRODID:brasil.gov.agenda
VERSION:1.0
BEGIN:VEVENT
DTSTART:20220927T000000Z
DTEND:20220927T000000Z
DCREATED:20220920T132936Z
UID:Compromisso-9a1dd630ab0449d89dc8a0c525ce478d
SEQUENCE:0
LAST-MODIFIED:20220920T132937Z
SUMMARY:Férias Regulamentares
LOCATION:Reitoria
PRIORITY:3
TRANSP:0
END:VEVENT
END:VCALENDAR
