BEGIN:VCALENDAR
PRODID:brasil.gov.agenda
VERSION:1.0
BEGIN:VEVENT
DTSTART:20220926T000000Z
DTEND:20220926T000000Z
DCREATED:20220920T132850Z
UID:Compromisso-3e5d861406524bf7a7be68919db22942
SEQUENCE:0
LAST-MODIFIED:20220920T132850Z
SUMMARY:Férias Regulamentares
LOCATION:Reitoria
PRIORITY:3
TRANSP:0
END:VEVENT
END:VCALENDAR
