BEGIN:VCALENDAR
PRODID:brasil.gov.agenda
VERSION:1.0
BEGIN:VEVENT
DTSTART:20220922T000000Z
DTEND:20220922T000000Z
DCREATED:20220920T132721Z
UID:Compromisso-520a8d091539444998255fcef456d349
SEQUENCE:0
LAST-MODIFIED:20220920T132722Z
SUMMARY:Férias Regulamentares
LOCATION:Reitoria
PRIORITY:3
TRANSP:0
END:VEVENT
END:VCALENDAR
