BEGIN:VCALENDAR
PRODID:brasil.gov.agenda
VERSION:1.0
BEGIN:VEVENT
DTSTART:20220921T000000Z
DTEND:20220921T000000Z
DCREATED:20220920T132642Z
UID:Compromisso-1eb4e03b2a524f9891d1b9204d82c0fc
SEQUENCE:0
LAST-MODIFIED:20220920T132642Z
SUMMARY:Férias Regulamentares
LOCATION:Reitoria
PRIORITY:3
TRANSP:0
END:VEVENT
END:VCALENDAR
