BEGIN:VCALENDAR
PRODID:brasil.gov.agenda
VERSION:1.0
BEGIN:VEVENT
DTSTART:20220920T000000Z
DTEND:20220920T000000Z
DCREATED:20220920T132548Z
UID:Compromisso-c0279f402e5b447292e3164509321fe3
SEQUENCE:0
LAST-MODIFIED:20220920T132548Z
SUMMARY:Férias Regulamentares
LOCATION:Reitoria
PRIORITY:3
TRANSP:0
END:VEVENT
END:VCALENDAR
