BEGIN:VCALENDAR
PRODID:brasil.gov.agenda
VERSION:1.0
BEGIN:VEVENT
DTSTART:20220919T000000Z
DTEND:20220919T000000Z
DCREATED:20220920T132450Z
UID:Compromisso-59604a10b4b740d1a1d17df3c78e95b8
SEQUENCE:0
LAST-MODIFIED:20220920T132450Z
SUMMARY:Férias Regulamentares
LOCATION:Reitoria
PRIORITY:3
TRANSP:0
END:VEVENT
END:VCALENDAR
