BEGIN:VCALENDAR
PRODID:brasil.gov.agenda
VERSION:1.0
BEGIN:VEVENT
DTSTART:20220916T000000Z
DTEND:20220916T000000Z
DCREATED:20220920T132333Z
UID:Compromisso-8cdc2d3d04394908ae30b03dd02eafa7
SEQUENCE:0
LAST-MODIFIED:20220920T132333Z
SUMMARY:Férias Regulamentares
LOCATION:Reitoria
PRIORITY:3
TRANSP:0
END:VEVENT
END:VCALENDAR
