BEGIN:VCALENDAR
PRODID:brasil.gov.agenda
VERSION:1.0
BEGIN:VEVENT
DTSTART:20220908T080000Z
DTEND:20220908T120000Z
DCREATED:20220920T131558Z
UID:Compromisso-7b5b1360291e41e0a70dd58d76255589
SEQUENCE:0
LAST-MODIFIED:20220920T131558Z
SUMMARY:Reunião Vice-reitor\, DGI
DESCRIPTION:Unidade de Gestão de Integridade
LOCATION:Reitoria
PRIORITY:3
TRANSP:0
END:VEVENT
END:VCALENDAR
