BEGIN:VCALENDAR
PRODID:brasil.gov.agenda
VERSION:1.0
BEGIN:VEVENT
DTSTART:20220908T000000Z
DTEND:20220908T000000Z
DCREATED:20220920T131609Z
UID:Compromisso-213c8fb02ee449e2b9b8d3f557b97bd5
SEQUENCE:0
LAST-MODIFIED:20220920T131609Z
SUMMARY:Despachos Internos
LOCATION:Reitoria
PRIORITY:3
TRANSP:0
END:VEVENT
END:VCALENDAR
