BEGIN:VCALENDAR
PRODID:brasil.gov.agenda
VERSION:1.0
BEGIN:VEVENT
DTSTART:20220906T110000Z
DTEND:20220906T130000Z
DCREATED:20220920T131403Z
UID:Compromisso-ed8fc6818a8548369663dc1330be3d5f
SEQUENCE:0
LAST-MODIFIED:20220920T131403Z
SUMMARY:Reunião Vice-reitoria e Proplan
DESCRIPTION:Reservada
LOCATION:Reitoria
PRIORITY:3
TRANSP:0
END:VEVENT
END:VCALENDAR
