BEGIN:VCALENDAR
PRODID:brasil.gov.agenda
VERSION:1.0
BEGIN:VEVENT
DTSTART:20220906T100000Z
DTEND:20220906T110000Z
DCREATED:20220920T131326Z
UID:Compromisso-d84ded0db8c64968ba152b970d1459f3
SEQUENCE:0
LAST-MODIFIED:20220920T131450Z
SUMMARY:Reunião Vice-reitor\, DGI e Auditoria
DESCRIPTION:Matriz de Risco TCU
LOCATION:Reitoria
PRIORITY:3
TRANSP:0
END:VEVENT
END:VCALENDAR
