BEGIN:VCALENDAR
PRODID:brasil.gov.agenda
VERSION:1.0
BEGIN:VEVENT
DTSTART:20220906T080000Z
DTEND:20220906T100000Z
DCREATED:20220920T131257Z
UID:Compromisso-2d351ecaf18c4c56b76cfc81a8fc8563
SEQUENCE:0
LAST-MODIFIED:20220920T131257Z
SUMMARY:Reunião Secretaria do CONSU
DESCRIPTION:Pauta próxima reunião do CONSU
LOCATION:Reitoria
PRIORITY:3
TRANSP:0
END:VEVENT
END:VCALENDAR
