BEGIN:VCALENDAR
PRODID:brasil.gov.agenda
VERSION:1.0
BEGIN:VEVENT
DTSTART:20220906T140000Z
DTEND:20220906T180000Z
DCREATED:20220920T131433Z
UID:Compromisso-0fe9cf02eaaa4b35bb3573a9c33f39e4
SEQUENCE:0
LAST-MODIFIED:20220920T131433Z
SUMMARY:Colação de Grau Antecipada
LOCATION:Reitoria
PRIORITY:3
TRANSP:0
END:VEVENT
END:VCALENDAR
