BEGIN:VCALENDAR
PRODID:brasil.gov.agenda
VERSION:1.0
BEGIN:VEVENT
DTSTART:20220905T140000Z
DTEND:20220905T180000Z
DCREATED:20220920T131147Z
UID:Compromisso-efa57b7b9e344feb87f21eb374cec457
SEQUENCE:0
LAST-MODIFIED:20220920T131147Z
SUMMARY:Despachos Internos
LOCATION:Reitoria
PRIORITY:3
TRANSP:0
END:VEVENT
END:VCALENDAR
