BEGIN:VCALENDAR
PRODID:brasil.gov.agenda
VERSION:1.0
BEGIN:VEVENT
DTSTART:20220902T080000Z
DTEND:20220902T120000Z
DCREATED:20220920T124949Z
UID:Compromisso-ea76539c524f467eba66b5bda10eb5ad
SEQUENCE:0
LAST-MODIFIED:20220920T124949Z
SUMMARY:Reunião Vice-reitor e Diretor de Administração Pessoal
DESCRIPTION:Reservada
LOCATION:Reitoria
PRIORITY:3
TRANSP:0
END:VEVENT
END:VCALENDAR
