BEGIN:VCALENDAR
PRODID:brasil.gov.agenda
VERSION:1.0
BEGIN:VEVENT
DTSTART:20220902T140000Z
DTEND:20220902T180000Z
DCREATED:20220920T125010Z
UID:Compromisso-04a93a43ee2846bd8b5101ab7fbe7a98
SEQUENCE:0
LAST-MODIFIED:20220920T125010Z
SUMMARY:Colação de Grau
LOCATION:Reitoria
PRIORITY:3
TRANSP:0
END:VEVENT
END:VCALENDAR
