BEGIN:VCALENDAR
PRODID:brasil.gov.agenda
VERSION:1.0
BEGIN:VEVENT
DTSTART:20220901T080000Z
DTEND:20220901T120000Z
DCREATED:20220920T124629Z
UID:Compromisso-28dc7a4440f74a77898cb08e3722f491
SEQUENCE:0
LAST-MODIFIED:20220920T124629Z
SUMMARY:Reunião Vice-reitor\, Ouvidoria e FAMED
DESCRIPTION:Situação Discente FAMED
LOCATION:Reitoria
PRIORITY:3
TRANSP:0
END:VEVENT
END:VCALENDAR
