BEGIN:VCALENDAR
PRODID:brasil.gov.agenda
VERSION:1.0
BEGIN:VEVENT
DTSTART:20220901T140000Z
DTEND:20220901T180000Z
DCREATED:20220920T124709Z
UID:Compromisso-efbd5a151c5e41058beb07000dc51029
SEQUENCE:0
LAST-MODIFIED:20220920T124709Z
SUMMARY:Reunião Secretaria do Consepe
DESCRIPTION:Pauta CONSEPE
LOCATION:Reitoria
PRIORITY:3
TRANSP:0
END:VEVENT
END:VCALENDAR
