BEGIN:VCALENDAR
PRODID:brasil.gov.agenda
VERSION:1.0
BEGIN:VEVENT
DTSTART:20220831T140000Z
DTEND:20220831T180000Z
DCREATED:20220914T114737Z
UID:Compromisso-b5a9f8b3262f4165aba18748001d2590
SEQUENCE:0
LAST-MODIFIED:20220914T114737Z
SUMMARY:Despachos Internos
LOCATION:Reitoria
PRIORITY:3
TRANSP:0
END:VEVENT
END:VCALENDAR
