BEGIN:VCALENDAR
PRODID:brasil.gov.agenda
VERSION:1.0
BEGIN:VEVENT
DTSTART:20220831T080000Z
DTEND:20220831T120000Z
DCREATED:20220914T114713Z
UID:Compromisso-d5800e7c17014b4a9fb6de56b99e34cb
SEQUENCE:0
LAST-MODIFIED:20220914T114713Z
SUMMARY:Colação de Grau Antecipada - Farmácia
LOCATION:Reitoria
PRIORITY:3
TRANSP:0
END:VEVENT
END:VCALENDAR
