BEGIN:VCALENDAR
PRODID:brasil.gov.agenda
VERSION:1.0
BEGIN:VEVENT
DTSTART:20220826T140000Z
DTEND:20220826T180000Z
DCREATED:20220914T114014Z
UID:Compromisso-9e1a69bb5e4248118a7728166b554acc
SEQUENCE:0
LAST-MODIFIED:20220914T114014Z
SUMMARY:Reunião Vice-reitor - Pró-reitorias e Auditoria Interna
DESCRIPTION:Matriz de Riscos do TCU.
LOCATION:Reitoria
PRIORITY:3
TRANSP:0
END:VEVENT
END:VCALENDAR
