BEGIN:VCALENDAR
PRODID:brasil.gov.agenda
VERSION:1.0
BEGIN:VEVENT
DTSTART:20220826T080000Z
DTEND:20220826T120000Z
DCREATED:20220914T113942Z
UID:Compromisso-999a998c557d4a689a6ad4178b828e13
SEQUENCE:0
LAST-MODIFIED:20220914T113942Z
SUMMARY:Despachos Internos
LOCATION:Reitoria
PRIORITY:3
TRANSP:0
END:VEVENT
END:VCALENDAR
