BEGIN:VCALENDAR
PRODID:brasil.gov.agenda
VERSION:1.0
BEGIN:VEVENT
DTSTART:20220825T080000Z
DTEND:20220825T120000Z
DCREATED:20220914T113806Z
UID:Compromisso-51fbea8c9dd9428bbd3609fb4b940b88
SEQUENCE:0
LAST-MODIFIED:20220914T113806Z
SUMMARY:Despachos Internos
LOCATION:Reitoria
PRIORITY:3
TRANSP:0
END:VEVENT
END:VCALENDAR
