BEGIN:VCALENDAR
PRODID:brasil.gov.agenda
VERSION:1.0
BEGIN:VEVENT
DTSTART:20220825T140000Z
DTEND:20220825T180000Z
DCREATED:20220914T113833Z
UID:Compromisso-30a524f123994d9c8e55af852cc0235a
SEQUENCE:0
LAST-MODIFIED:20220914T113833Z
SUMMARY:Colação de Grau Antecipada -BCT e Odontologia
LOCATION:Reitoria
PRIORITY:3
TRANSP:0
END:VEVENT
END:VCALENDAR
