BEGIN:VCALENDAR
PRODID:brasil.gov.agenda
VERSION:1.0
BEGIN:VEVENT
DTSTART:20220824T140000Z
DTEND:20220824T180000Z
DCREATED:20220914T113645Z
UID:Compromisso-2b8f47f4d5fc4bf1abbde2777319a66a
SEQUENCE:0
LAST-MODIFIED:20220914T113645Z
SUMMARY:Reunião Vice-reitor - Auditoria e TCU
DESCRIPTION:Matriz de Riscos do TCU.
LOCATION:Reitoria
PRIORITY:3
TRANSP:0
END:VEVENT
END:VCALENDAR
