BEGIN:VCALENDAR
PRODID:brasil.gov.agenda
VERSION:1.0
BEGIN:VEVENT
DTSTART:20220824T080000Z
DTEND:20220824T120000Z
DCREATED:20220914T113613Z
UID:Compromisso-97c556f0881b4f74a8b0d2325d698351
SEQUENCE:0
LAST-MODIFIED:20220914T113613Z
SUMMARY:290ª reunião sendo a 156ª sessão ordinária do CONSU
LOCATION:Reitoria
PRIORITY:3
TRANSP:0
END:VEVENT
END:VCALENDAR
