BEGIN:VCALENDAR
PRODID:brasil.gov.agenda
VERSION:1.0
BEGIN:VEVENT
DTSTART:20220823T140000Z
DTEND:20220823T180000Z
DCREATED:20220914T113507Z
UID:Compromisso-6801a8420cbb4d18bbbee3d53cc5ad70
SEQUENCE:0
LAST-MODIFIED:20220914T113507Z
SUMMARY:Reunião Vice-reitor - Divisão de Aposentadoria\, Superintendência das Bibliotecas\, Diretoria de Patrimônio e Materiais\, Diretoria de Administração Pessoal\, Secretaria de Processos Administrativos
DESCRIPTION:Emissão das Certidões de Nada Consta
LOCATION:Reitoria
PRIORITY:3
TRANSP:0
END:VEVENT
END:VCALENDAR
