BEGIN:VCALENDAR
PRODID:brasil.gov.agenda
VERSION:1.0
BEGIN:VEVENT
DTSTART:20220823T080000Z
DTEND:20220823T120000Z
DCREATED:20220914T113418Z
UID:Compromisso-e3759433b4fc48308626b005395b64c3
SEQUENCE:0
LAST-MODIFIED:20220914T113419Z
SUMMARY:Despachos Internos
LOCATION:Reitoria
PRIORITY:3
TRANSP:0
END:VEVENT
END:VCALENDAR
