BEGIN:VCALENDAR
PRODID:brasil.gov.agenda
VERSION:1.0
BEGIN:VEVENT
DTSTART:20220822T140000Z
DTEND:20220822T180000Z
DCREATED:20220914T113316Z
UID:Compromisso-804dbaa4d9394217b3aaad2419dad8c1
SEQUENCE:0
LAST-MODIFIED:20220914T113317Z
SUMMARY:Colação de Grau Posterior - LEC
LOCATION:Reitoria
PRIORITY:3
TRANSP:0
END:VEVENT
END:VCALENDAR
