BEGIN:VCALENDAR
PRODID:brasil.gov.agenda
VERSION:1.0
BEGIN:VEVENT
DTSTART:20220822T080000Z
DTEND:20220822T120000Z
DCREATED:20220914T113228Z
UID:Compromisso-e5a7eb22571a437ba8eddf2c131ddda8
SEQUENCE:0
LAST-MODIFIED:20220914T113248Z
SUMMARY:187ª reunião sendo a 135ª sessão ordinária do CONSEPE
LOCATION:Reitoria
PRIORITY:3
TRANSP:0
END:VEVENT
END:VCALENDAR
