BEGIN:VCALENDAR
PRODID:brasil.gov.agenda
VERSION:1.0
BEGIN:VEVENT
DTSTART:20220810T080000Z
DTEND:20220810T120000Z
DCREATED:20220810T194854Z
UID:Compromisso-860d48394c5a457fafe01b6eb1ed354c
SEQUENCE:0
LAST-MODIFIED:20220810T194854Z
SUMMARY:Reunião Vice-Reitor e Secretária dos Conselhos Superiores
DESCRIPTION:Pautas do Consu
PRIORITY:3
TRANSP:0
END:VEVENT
END:VCALENDAR
