BEGIN:VCALENDAR
PRODID:brasil.gov.agenda
VERSION:1.0
BEGIN:VEVENT
DTSTART:20220810T140000Z
DTEND:20220810T180000Z
DCREATED:20220810T194947Z
UID:Compromisso-9a7886bb513f4d1993c30f50ebd5b926
SEQUENCE:0
LAST-MODIFIED:20220810T194947Z
SUMMARY:Despachos Internos
PRIORITY:3
TRANSP:0
END:VEVENT
END:VCALENDAR
