BEGIN:VCALENDAR
PRODID:brasil.gov.agenda
VERSION:1.0
BEGIN:VEVENT
DTSTART:20220804T080000Z
DTEND:20220804T120000Z
DCREATED:20220810T184640Z
UID:Compromisso-ce725e26ce424502bd7f0c23fb9affa9
SEQUENCE:0
LAST-MODIFIED:20220810T184640Z
SUMMARY:Despachos Internos
PRIORITY:3
TRANSP:0
END:VEVENT
END:VCALENDAR
